<?xml version="1.0" encoding="utf-8"?>
	<TileMap version="1.0.0" tilemapservice="https://tiles.earthconsultants.com/TMS/1.0.0/service.xml">
	  <Title>Hoots Geological Map of Los Angeles 1931</Title>
	  <Abstract></Abstract>
	  <SRS>EPSG:3857</SRS>
	  <BoundingBox minx="33.98313059531092" miny="-118.64599894992179" maxx="34.21286175559661" maxy="-118.23090216932297"/>
	  <Origin x="33.98313059531092" y="-118.64599894992179"/>
	  <TileFormat width="256" height="256" mime-type="image/png" extension="png"/>
	  <TileSets profile="mercator">
	    <TileSet href="https://tiles.earthconsultants.com/TMS/1.0.0/hoots1931/9" units-per-pixel="305.74811308593752" order="9"/>
	    <TileSet href="https://tiles.earthconsultants.com/TMS/1.0.0/hoots1931/10" units-per-pixel="152.87405654296876" order="10"/>
	    <TileSet href="https://tiles.earthconsultants.com/TMS/1.0.0/hoots1931/11" units-per-pixel="76.43702827148438" order="11"/>
	    <TileSet href="https://tiles.earthconsultants.com/TMS/1.0.0/hoots1931/12" units-per-pixel="38.21851413574219" order="12"/>
	    <TileSet href="https://tiles.earthconsultants.com/TMS/1.0.0/hoots1931/13" units-per-pixel="19.10925706787109" order="13"/>
	    <TileSet href="https://tiles.earthconsultants.com/TMS/1.0.0/hoots1931/14" units-per-pixel="9.55462853393555" order="14"/>
	    <TileSet href="https://tiles.earthconsultants.com/TMS/1.0.0/hoots1931/15" units-per-pixel="4.77731426696777" order="15"/>
	    <TileSet href="https://tiles.earthconsultants.com/TMS/1.0.0/hoots1931/16" units-per-pixel="2.38865713348389" order="16"/>
	    <TileSet href="https://tiles.earthconsultants.com/TMS/1.0.0/hoots1931/17" units-per-pixel="1.19432856674194" order="17"/>
	    <TileSet href="https://tiles.earthconsultants.com/TMS/1.0.0/hoots1931/18" units-per-pixel="0.59716428337097" order="18"/>
	    <TileSet href="https://tiles.earthconsultants.com/TMS/1.0.0/hoots1931/19" units-per-pixel="0.29858214168549" order="19"/>
	    <TileSet href="https://tiles.earthconsultants.com/TMS/1.0.0/hoots1931//20" units-per-pixel="0.14929107084274" order="20"/>
	  </TileSets>
	</TileMap>
